0.6350354576
0.0000000000
0.0000000000
-0.6350354576
629093.9437789689
5089878.6576988269
