0.6350354576
0.0000000000
0.0000000000
-0.6350354576
616385.0814203306
5078498.1156793516
