0.6350354576
0.0000000000
0.0000000000
-0.6350354576
712094.6910657304
5120071.2587480452
