0.6350354576
0.0000000000
0.0000000000
-0.6350354576
699778.7350655908
5102958.6820706166
