0.6350354576
0.0000000000
0.0000000000
-0.6350354576
686884.6801551691
5102539.9435161231
