0.6350354576
0.0000000000
0.0000000000
-0.6350354576
686715.7683293984
5108095.8445060924
