0.6350354576
0.0000000000
0.0000000000
-0.6350354576
680273.9233420059
5107896.2250041300
