0.6350354576
0.0000000000
0.0000000000
-0.6350354576
699416.4118648534
5114069.4842627589
