0.6350354576
0.0000000000
0.0000000000
-0.6350354576
686546.9915562091
5113650.7455181759
