0.6350354576
0.0000000000
0.0000000000
-0.6350354576
699236.6352863901
5119625.5203983318
