0.6350354576
0.0000000000
0.0000000000
-0.6350354576
686377.0797525527
5119206.6465121899
