0.6350354576
0.0000000000
0.0000000000
-0.6350354576
673990.1254681360
5102148.0694252010
