0.6350354576
0.0000000000
0.0000000000
-0.6350354576
667392.0035827896
5107517.8505843272
