0.6350354576
0.0000000000
0.0000000000
-0.6350354576
654370.6716952679
5112721.8764370158
