0.6350354576
0.0000000000
0.0000000000
-0.6350354576
660659.6043534154
5118450.0323288143
