0.6350354576
0.0000000000
0.0000000000
-0.6350354576
609421.0772378105
5106150.3621882703
