0.6350354576
0.0000000000
0.0000000000
-0.6350354576
705291.6576856253
5130956.5769606251
