0.7620425492
0.0000000000
0.0000000000
-0.7620425492
711516.3110075662
5136738.4703508345
