0.6350354576
0.0000000000
0.0000000000
-0.6350354576
692632.0133041448
5124968.8020808036
