0.6350354576
0.0000000000
0.0000000000
-0.6350354576
679621.1807820031
5130118.8288162537
