0.6350354576
0.0000000000
0.0000000000
-0.6350354576
692104.9132579380
5141635.5052305637
