0.6350354576
0.0000000000
0.0000000000
-0.6350354576
666937.5372709992
5124184.5531557286
