0.6350354576
0.0000000000
0.0000000000
-0.6350354576
654089.3470308593
5123833.8129963428
