0.6350354576
0.0000000000
0.0000000000
-0.6350354576
666784.9901106692
5129740.4540122328
