0.6350354576
0.0000000000
0.0000000000
-0.6350354576
666633.2130262452
5135295.8548777737
