0.6350354576
0.0000000000
0.0000000000
-0.6350354576
660221.5027030212
5135116.7347707972
