0.6350354576
0.0000000000
0.0000000000
-0.6350354576
634695.6694946073
5128913.2174336826
