0.6350354576
0.0000000000
0.0000000000
-0.6350354576
628277.9595507792
5128767.9617163651
