0.6350354576
0.0000000000
0.0000000000
-0.6350354576
621860.2496676169
5128629.3409260856
