0.6350354576
0.0000000000
0.0000000000
-0.6350354576
615441.9047975303
5128498.2200002782
