0.6350354576
0.0000000000
0.0000000000
-0.6350354576
615337.1268678595
5134054.1204766082
