0.6350354576
0.0000000000
0.0000000000
-0.6350354576
710742.7165311601
5158960.5671052625
