0.6350354576
0.0000000000
0.0000000000
-0.6350354576
704355.0053940812
5158733.9476665230
