0.6350354576
0.0000000000
0.0000000000
-0.6350354576
659928.8132949543
5146228.5363867376
