0.6350354576
0.0000000000
0.0000000000
-0.6350354576
659782.4010706970
5151784.4372028001
