0.7620425492
0.0000000000
0.0000000000
-0.7620425492
648136.2178966829
5062558.0228210604
