0.6773504679
0.0000000000
0.0000000000
-0.6773504679
661531.7576530336
5085117.7941189716
