0.6773504679
0.0000000000
0.0000000000
-0.6773504679
654928.0168204521
5090500.1861450775
