0.6773504679
0.0000000000
0.0000000000
-0.6773504679
635796.6556982239
5078912.8898823904
