0.8043536806
0.0000000000
0.0000000000
-0.8043536806
615280.5455144219
5084052.7733483920
