0.6773504679
0.0000000000
0.0000000000
-0.6773504679
622524.7527169728
5095295.4276870228
