0.6773504679
0.0000000000
0.0000000000
-0.6773504679
718722.4484854157
5114748.5999231935
