0.6773504679
0.0000000000
0.0000000000
-0.6773504679
705665.5314215269
5119844.3399049928
