0.6773504679
0.0000000000
0.0000000000
-0.6773504679
699597.8399881834
5108514.8842415242
