0.6773504679
0.0000000000
0.0000000000
-0.6773504679
693156.6641386087
5108302.0533994213
