0.6773504679
0.0000000000
0.0000000000
-0.6773504679
686546.9231434716
5113651.1234429544
