0.6773504679
0.0000000000
0.0000000000
-0.6773504679
699236.3552984900
5119625.6864377912
