0.6773504679
0.0000000000
0.0000000000
-0.6773504679
673676.2488710393
5113258.7837049216
