0.6773504679
0.0000000000
0.0000000000
-0.6773504679
673517.8287560705
5118814.6846019104
