0.6773504679
0.0000000000
0.0000000000
-0.6773504679
660659.1544851962
5118450.1989888931
